BEGIN:VCALENDAR
VERSION:2.0
PRODID:-//Jewish Family and Community Services of Pittsburgh - ECPv6.7.1//NONSGML v1.0//EN
CALSCALE:GREGORIAN
METHOD:PUBLISH
X-ORIGINAL-URL:https://www.jfcspgh.org
X-WR-CALDESC:Events for Jewish Family and Community Services of Pittsburgh
REFRESH-INTERVAL;VALUE=DURATION:PT1H
X-Robots-Tag:noindex
X-PUBLISHED-TTL:PT1H
BEGIN:VTIMEZONE
TZID:America/New_York
BEGIN:DAYLIGHT
TZOFFSETFROM:-0500
TZOFFSETTO:-0400
TZNAME:EDT
DTSTART:20250309T070000
END:DAYLIGHT
BEGIN:STANDARD
TZOFFSETFROM:-0400
TZOFFSETTO:-0500
TZNAME:EST
DTSTART:20251102T060000
END:STANDARD
END:VTIMEZONE
BEGIN:VEVENT
DTSTART;TZID=America/New_York:20250912T150000
DTEND;TZID=America/New_York:20250912T170000
DTSTAMP:20260419T125322
CREATED:20250731T164057Z
LAST-MODIFIED:20250731T164147Z
UID:17400-1757689200-1757696400@www.jfcspgh.org
SUMMARY:Celebrate Afghanistan Through Music and Dance!
DESCRIPTION:Welcoming Week 2025: Celebrating Cultures\, Building Community \n\nLearn about Afghanistan’s Culture\nLive Music Demonstration with traditional Instruments from Afghanistan\nLearn how to dance the national dance of Afghanistan\n\nDate: September 12th \nTime: 3pm – 5pm \nLocation: JCC\, Levinson Hall \n5738 Forbes Ave\, Pittsburgh\, PA 15217 \n  \nRSVP by September 11th at 2pm by clicking here. 
URL:https://www.jfcspgh.org/event/celebrate-afghanistan-through-music-and-dance/
LOCATION:JCC Levinson Hall\, Forbes Avenue 5738\, Pittsburgh\, PA\, 15217\, United States
GEO:40.4375168;-79.9239118
X-APPLE-STRUCTURED-LOCATION;VALUE=URI;X-ADDRESS=JCC Levinson Hall Forbes Avenue 5738 Pittsburgh PA 15217 United States;X-APPLE-RADIUS=500;X-TITLE=Forbes Avenue 5738:geo:-79.9239118,40.4375168
END:VEVENT
END:VCALENDAR