BEGIN:VCALENDAR
VERSION:2.0
PRODID:-//Jewish Family and Community Services of Pittsburgh - ECPv6.7.1//NONSGML v1.0//EN
CALSCALE:GREGORIAN
METHOD:PUBLISH
X-WR-CALNAME:Jewish Family and Community Services of Pittsburgh
X-ORIGINAL-URL:https://www.jfcspgh.org
X-WR-CALDESC:Events for Jewish Family and Community Services of Pittsburgh
REFRESH-INTERVAL;VALUE=DURATION:PT1H
X-Robots-Tag:noindex
X-PUBLISHED-TTL:PT1H
BEGIN:VTIMEZONE
TZID:America/New_York
BEGIN:DAYLIGHT
TZOFFSETFROM:-0500
TZOFFSETTO:-0400
TZNAME:EDT
DTSTART:20260308T070000
END:DAYLIGHT
BEGIN:STANDARD
TZOFFSETFROM:-0400
TZOFFSETTO:-0500
TZNAME:EST
DTSTART:20261101T060000
END:STANDARD
END:VTIMEZONE
BEGIN:VEVENT
DTSTART;TZID=America/New_York:20260427T170000
DTEND;TZID=America/New_York:20260427T180000
DTSTAMP:20260419T145440
CREATED:20240108T175339Z
LAST-MODIFIED:20260130T171129Z
UID:17153-1777309200-1777312800@www.jfcspgh.org
SUMMARY:Grief Support Group
DESCRIPTION:Seeking support during the grieving process can help if you’re struggling to process your emotions. The JFCS Grief Support Group meets biweekly. \nVirtual Only \nTo sign up for access to this virtual group please fill out the form below. This event recurs every other Monday. Only one sign up is needed for all sessions. \n\n\n                \n                        \n                            Grief Support Group Sign Up Form\n                             \n                        \n                        Name(Required)\n                            \n                            \n                                                    First\n                                                    \n                                                \n                            \n                            \n                                                            Last\n                                                            \n                                                        \n                            \n                        Email(Required)\n                                \n                                    Enter Email\n                                    \n                                \n                                \n                                    Confirm Email
URL:https://www.jfcspgh.org/event/grief-support-group/2026-04-27/
LOCATION:Virtual Conferencing
CATEGORIES:JFCS Counseling Services,JFCS Older Adult Services
ORGANIZER;CN="JFCS Older Adult Services":MAILTO:olderadults@jfcspgh.org
END:VEVENT
BEGIN:VEVENT
DTSTART;TZID=America/New_York:20260429T100000
DTEND;TZID=America/New_York:20260429T113000
DTSTAMP:20260419T145440
CREATED:20260325T140602Z
LAST-MODIFIED:20260325T140602Z
UID:17916-1777456800-1777462200@www.jfcspgh.org
SUMMARY:Behavioral Interviewing Techniques in Action
DESCRIPTION:A JFCS Career Services Event: \nJoin us in learning what behavioral interviewing is and why so many employers use this method. In addition\, we will present clear and concise techniques to prepare for behavioral interviews along with an opportunity to practice in a fun and relaxed environment. We hope to see you and look forward to an interactive and enjoyable presentation. \nPresented by Jeanne Williams – jwilliams@jfcspgh.org. \nRegistration closes at 5:00 PM the BUSINESS DAY PRIOR to this workshop. Registrations after the deadline will not be accepted.\n\nPlease email us at Career Services\, if you need to cancel your registration. \nYOU WILL BE EMAILED A ZOOM LINK UPON REGISTRATION – PLEASE REMEMBER TO SAVE IT IN YOUR CALENDAR.
URL:https://www.jfcspgh.org/event/behavioral-interviewing-techniques-in-action-6-2-2-2-2-2-2-2-2-2-2-2-2-2-2-2-2-2-2-2-2-2-2-2-2-2-2-2-2-2-2-2-2-2-2-2-2-2-2-2-2-2-2-2-2-2-2-2-2-2-2-2-2-2-2-2-2-2-2-2-2-2-2-2-2/
LOCATION:Virtual Conferencing
CATEGORIES:JFCS Career Services
ORGANIZER;CN="JFCS Career Services":MAILTO:careerservices@jfcspgh.org
END:VEVENT
BEGIN:VEVENT
DTSTART;TZID=America/New_York:20260429T170000
DTEND;TZID=America/New_York:20260429T190000
DTSTAMP:20260419T145440
CREATED:20260325T140921Z
LAST-MODIFIED:20260325T140921Z
UID:17917-1777482000-1777489200@www.jfcspgh.org
SUMMARY:Advanced Resume Writing
DESCRIPTION:A JFCS Career Services Event: \nAre you current with the most recent trends in resume writing? Does your resume clearly showcase your brand and highlight your value? What should you be aware of when using AI to help write your resume? This advanced workshop is designed for job seekers who already have a resume but want to take it to the next level. Join us for expert tips\, real-world examples\, and actionable insights to make your resume stand out and work harder for you. \nPresented by Pam Harris – pharris@jfcspgh.org. \nRegistration closes at 5:00 PM the BUSINESS DAY PRIOR to this workshop. Registrations after the deadline will not be accepted.\n\nPlease email us at Career Services\, if you need to cancel your registration. \nYOU WILL BE EMAILED A ZOOM LINK UPON REGISTRATION – PLEASE REMEMBER TO SAVE IT IN YOUR CALENDAR.
URL:https://www.jfcspgh.org/event/current-trends-in-resume-writing-7-2-2-2-2-2-2-2-2-2-2-2-2-2-2-2-2-2-2-2-2-2-2-2-2-2-2-2-2-2-2-2-2-2-2-2-2-2-2-2-2-2-2-2-2-2-2-2-2-2-2-2-2-2-2-2-2-3-2-2-2-2-2-2/
LOCATION:Virtual Conferencing
CATEGORIES:JFCS Career Services
ORGANIZER;CN="JFCS Career Services":MAILTO:careerservices@jfcspgh.org
END:VEVENT
BEGIN:VEVENT
DTSTART;TZID=America/New_York:20260430T100000
DTEND;TZID=America/New_York:20260430T113000
DTSTAMP:20260419T145440
CREATED:20260324T183851Z
LAST-MODIFIED:20260324T184236Z
UID:17904-1777543200-1777548600@www.jfcspgh.org
SUMMARY:A. Philip Randolph Institute Information Session
DESCRIPTION:A JFCS Career Services Event:\n\nJoin JFCS Career Services as we virtually host recruiters for a pre-apprenticeship information and Q & A session. Individuals who participate will gain direct access to details about apprenticeship opportunities\, and more!\n\nBreaking the Chains of Poverty is a Pennsylvania-registered pre-apprenticeship program designed to help build the skills necessary to obtain a family-sustaining career in the local building and construction trade unions\, manufacturing industry\, and emerging energy sector.\n\nVisit the programs website to learn more:\nhttps://pittsburghapri.org/\n\nThis event is open to the public.\n\nContact Employer Relations Specialist Shawnte’ Knox with any questions – sknox@jfcspgh.org.\n\nPlease email us at Career Services\, if you need to cancel your registration.\n\nYOU WILL BE EMAILED A ZOOM LINK UPON REGISTRATION – PLEASE REMEMBER TO SAVE IT IN YOUR CALENDAR.
URL:https://www.jfcspgh.org/event/a-philip-randolph-institute-information-session/
LOCATION:Virtual Conferencing
CATEGORIES:JFCS Career Services
ORGANIZER;CN="JFCS Career Services":MAILTO:careerservices@jfcspgh.org
END:VEVENT
BEGIN:VEVENT
DTSTART;TZID=America/New_York:20260430T150000
DTEND;TZID=America/New_York:20260430T160000
DTSTAMP:20260419T145440
CREATED:20260325T141235Z
LAST-MODIFIED:20260325T141235Z
UID:17918-1777561200-1777564800@www.jfcspgh.org
SUMMARY:AI & the Job Search
DESCRIPTION:A JFCS Career Services Event: \nAI tools are an increasingly common fixture of our daily lives\, transforming the way we work\, create\, and communicate. Join us as we present an introduction to AI tools\, discuss the opportunities and potential pitfalls of using them in your job search\, and provide you with real-time examples of how they can help you find your next position. \nPresented by Chris Rippee – crippee@jfcspgh.org. \nRegistration closes at 5:00 PM the BUSINESS DAY PRIOR to this workshop. Registrations after the deadline will not be accepted.\n\nPlease email us at Career Services\, if you need to cancel your registration. \nYOU WILL BE EMAILED A ZOOM LINK UPON REGISTRATION – PLEASE REMEMBER TO SAVE IT IN YOUR CALENDAR.
URL:https://www.jfcspgh.org/event/ai-the-job-search-2-2-2-2-2-2-3-2-2-2-2-2-2-2-2-2/
LOCATION:Virtual Conferencing
CATEGORIES:JFCS Career Services
ORGANIZER;CN="JFCS Career Services":MAILTO:careerservices@jfcspgh.org
END:VEVENT
END:VCALENDAR