BEGIN:VCALENDAR
VERSION:2.0
PRODID:-//Jewish Family and Community Services of Pittsburgh - ECPv6.7.1//NONSGML v1.0//EN
CALSCALE:GREGORIAN
METHOD:PUBLISH
X-ORIGINAL-URL:https://www.jfcspgh.org
X-WR-CALDESC:Events for Jewish Family and Community Services of Pittsburgh
REFRESH-INTERVAL;VALUE=DURATION:PT1H
X-Robots-Tag:noindex
X-PUBLISHED-TTL:PT1H
BEGIN:VTIMEZONE
TZID:America/New_York
BEGIN:DAYLIGHT
TZOFFSETFROM:-0500
TZOFFSETTO:-0400
TZNAME:EDT
DTSTART:20260308T070000
END:DAYLIGHT
BEGIN:STANDARD
TZOFFSETFROM:-0400
TZOFFSETTO:-0500
TZNAME:EST
DTSTART:20261101T060000
END:STANDARD
END:VTIMEZONE
BEGIN:VEVENT
DTSTART;TZID=America/New_York:20260407T140000
DTEND;TZID=America/New_York:20260407T153000
DTSTAMP:20260420T191835
CREATED:20260311T142246Z
LAST-MODIFIED:20260311T142343Z
UID:17885-1775570400-1775575800@www.jfcspgh.org
SUMMARY:Basic Microsoft Office Skills
DESCRIPTION:A JFCS Career Services Event \nJoin us for a 90‑minute introductory workshop designed to help you build foundational Microsoft Office skills. This session will cover the basics of the Microsoft Office platform\, including how to open\, navigate\, and work with multiple applications at the same time.\n\nRecommended: Attend using a laptop or desktop computer for the best learning experience.\n\nPresented by: University of Pittsburgh iServe Project Student Volunteers\n\nQuestions? Contact Shawnte Knox at sknox@jfcspgh.org.\n\nRegistration Deadline:\nRegistration closes at 5:00 PM the business day prior to the workshop. Registrations received after the deadline cannot be accepted.\n\nCancellation Policy:\nTo cancel your registration\, please contact us at Career Services at least 24 hours in advance.\n\nImportant:\nA Zoom link will be emailed to you upon registration. Please remember to save it to your calendar.
URL:https://www.jfcspgh.org/event/basic-microsoft-office-skills-2/
LOCATION:Virtual Conferencing
CATEGORIES:JFCS Career Services
ORGANIZER;CN="JFCS Career Services":MAILTO:careerservices@jfcspgh.org
END:VEVENT
BEGIN:VEVENT
DTSTART;TZID=America/New_York:20260407T170000
DTEND;TZID=America/New_York:20260407T183000
DTSTAMP:20260420T191835
CREATED:20260324T194627Z
LAST-MODIFIED:20260324T194627Z
UID:17906-1775581200-1775586600@www.jfcspgh.org
SUMMARY:Career Transitions and the Mature Worker
DESCRIPTION:A JFCS Career Services Event: \nLearn to Navigate the landscape of today’s ever changing workforce. Regardless if you are returning to work\, changing careers\, or pursuing a passion there are many ways you can position yourself to be just what the employer needs. Highlight your strengths and attributes to maximize your efforts towards a successful career. \nPresented by Lisa Lenhart – llenhart@jfcspgh.org \nRegistration closes at 5:00 PM the BUSINESS DAY PRIOR to this workshop. Registrations after the deadline will not be accepted. \nPlease email us at Career Services\, if you need to cancel your registration. \nYOU WILL BE EMAILED A ZOOM LINK UPON REGISTRATION – PLEASE REMEMBER TO SAVE IT IN YOUR CALENDAR.
URL:https://www.jfcspgh.org/event/career-transitions-and-the-mature-worker-4-2-3-2-2-2-2-2-2-2-2-2-2-2-2-2-3-2-2-2-2-2-2-2-2-2-2-2-2-2-2-2-2-2-2-2-2-2-2-2-2-2-2-2-2-2-2-2-2-2-2-2-2-2-2-2-2-2-2-2-2-2/
LOCATION:Virtual Conferencing
CATEGORIES:JFCS Career Services
ORGANIZER;CN="JFCS Career Services":MAILTO:careerservices@jfcspgh.org
END:VEVENT
BEGIN:VEVENT
DTSTART;VALUE=DATE:20260408
DTEND;VALUE=DATE:20260409
DTSTAMP:20260420T191835
CREATED:20260223T174959Z
LAST-MODIFIED:20260223T174959Z
UID:17859-1775606400-1775692799@www.jfcspgh.org
SUMMARY:Agency Closed
DESCRIPTION:JFCS offices are closed in observance of Passover.
URL:https://www.jfcspgh.org/event/agency-closed-88/
CATEGORIES:JFCS
END:VEVENT
END:VCALENDAR