BEGIN:VCALENDAR
VERSION:2.0
PRODID:-//Jewish Family and Community Services of Pittsburgh - ECPv6.7.1//NONSGML v1.0//EN
CALSCALE:GREGORIAN
METHOD:PUBLISH
X-WR-CALNAME:Jewish Family and Community Services of Pittsburgh
X-ORIGINAL-URL:https://www.jfcspgh.org
X-WR-CALDESC:Events for Jewish Family and Community Services of Pittsburgh
REFRESH-INTERVAL;VALUE=DURATION:PT1H
X-Robots-Tag:noindex
X-PUBLISHED-TTL:PT1H
BEGIN:VTIMEZONE
TZID:America/New_York
BEGIN:DAYLIGHT
TZOFFSETFROM:-0500
TZOFFSETTO:-0400
TZNAME:EDT
DTSTART:20250309T070000
END:DAYLIGHT
BEGIN:STANDARD
TZOFFSETFROM:-0400
TZOFFSETTO:-0500
TZNAME:EST
DTSTART:20251102T060000
END:STANDARD
END:VTIMEZONE
BEGIN:VEVENT
DTSTART;TZID=America/New_York:20250519T140000
DTEND;TZID=America/New_York:20250519T153000
DTSTAMP:20260421T183217
CREATED:20250421T184027Z
LAST-MODIFIED:20250421T184027Z
UID:17191-1747663200-1747668600@www.jfcspgh.org
SUMMARY:Tools for a Powerful Job Search: O*Net OnLine
DESCRIPTION:A JFCS Career Services Event: \nJoin us for this interactive session designed to equip you with the cutting-edge tools and strategies from O*Net OnLine\, ensuring you stand out in the competitive job market. Dive into a wealth of resources that will help you identify key skills\, align your strengths with market needs\, and navigate through the complexities of job searching with confidence. Transform your job search into a strategic and more effective process by using this tool from the United States Department of Labor. \nPresented by Jeanne Williams – jwilliams@jfcspgh.org. \n\nRegistration closes at 5:00 PM the BUSINESS DAY PRIOR to this workshop. Registrations after the deadline will not be accepted. \nTo cancel a registration\, please contact Gretchen Young at gyoung@jfcspgh.org\, 24 hours in advance. \nYOU WILL BE EMAILED A ZOOM LINK UPON REGISTRATION – PLEASE REMEMBER TO SAVE IT IN YOUR CALENDAR.
URL:https://www.jfcspgh.org/event/tools-for-a-powerful-job-search-onet-online-2-2-2-2-2-2-2/
LOCATION:Virtual Conferencing
CATEGORIES:JFCS Career Services
ORGANIZER;CN="JFCS Career Services":MAILTO:careerservices@jfcspgh.org
END:VEVENT
BEGIN:VEVENT
DTSTART;TZID=America/New_York:20250521T103000
DTEND;TZID=America/New_York:20250521T120000
DTSTAMP:20260421T183217
CREATED:20250423T193701Z
LAST-MODIFIED:20250423T193701Z
UID:17207-1747823400-1747828800@www.jfcspgh.org
SUMMARY:LinkedIn: Networking Strategies
DESCRIPTION:A JFCS Career Services Event: \nLearn how to find new networking contacts on LinkedIn. This presentation will discuss and demonstrate how to find new connections at target companies and then take the next steps to develop a professional relationship. \nThis workshop is best viewed on a laptop or desktop computer. \nNote: Please have your LinkedIn profile page completed before registering for this workshop. \nPresented by Justin Kelly – jkelly@jfcspgh.org \nRegistration closes at 5:00 PM the BUSINESS DAY PRIOR to this workshop. Registrations after the deadline will not be accepted.\n\nTo cancel a registration\, please contact Gretchen Young at gyoung@jfcspgh.org\, 24 hours in advance. \nYOU WILL BE EMAILED A ZOOM LINK UPON REGISTRATION – PLEASE REMEMBER TO SAVE IT IN YOUR CALENDAR.
URL:https://www.jfcspgh.org/event/linkedin-networking-strategies-4-2-2-2-2-2-2-2-2-2-2-2-2-2-2-2-2-2-2-2-2-2-2-2-3-2-2-2-2-2-2-2-2-2-2-2-2-2-2-2-2-2-2-2-2-2-2-2-2-2-2-2-2-2/
LOCATION:Virtual Conferencing
CATEGORIES:JFCS Career Services
ATTACH;FMTTYPE=image/jpeg:https://jfcspittsburgh.wpenginepowered.com/wp-content/uploads/2019/07/71146.jpg
ORGANIZER;CN="JFCS Career Services":MAILTO:careerservices@jfcspgh.org
END:VEVENT
BEGIN:VEVENT
DTSTART;TZID=America/New_York:20250521T133000
DTEND;TZID=America/New_York:20250521T153000
DTSTAMP:20260421T183217
CREATED:20250423T193856Z
LAST-MODIFIED:20250423T193856Z
UID:17208-1747834200-1747841400@www.jfcspgh.org
SUMMARY:Resume Writing Trends
DESCRIPTION:A JFCS Career Services Event: \nTrends in resume writing continue to evolve. Does your resume clearly showcase your brand and highlight your value? Is it current with the latest trends and formatted for scoring and ranking by applicant tracking systems? Join us for ideas to help make your resume positively impactful. \nPresented by Pam Harris – pharris@jfcspgh.org. \nRegistration closes at 5:00 PM the BUSINESS DAY PRIOR to this workshop. Registrations after the deadline will not be accepted.\n\nTo cancel a registration\, please contact Gretchen Young at gyoung@jfcspgh.org\, 24 hours in advance. \nYOU WILL BE EMAILED A ZOOM LINK UPON REGISTRATION – PLEASE REMEMBER TO SAVE IT IN YOUR CALENDAR.
URL:https://www.jfcspgh.org/event/current-trends-in-resume-writing-7-2-2-2-2-2-2-2-2-2-2-2-2-2-2-2-2-2-2-2-2-2-2-2-2-2-2-2-2-2-2-2-2-2-2-2-2-2-2-2-2-2-2-2-2-2-2-2-2-2-2-2-2-2/
LOCATION:Virtual Conferencing
CATEGORIES:JFCS Career Services
ATTACH;FMTTYPE=image/jpeg:https://jfcspittsburgh.wpenginepowered.com/wp-content/uploads/2020/05/Virtual-Resume-Workshop.jpeg
ORGANIZER;CN="JFCS Career Services":MAILTO:careerservices@jfcspgh.org
END:VEVENT
BEGIN:VEVENT
DTSTART;TZID=America/New_York:20250522T100000
DTEND;TZID=America/New_York:20250522T113000
DTSTAMP:20260421T183217
CREATED:20250423T195705Z
LAST-MODIFIED:20250423T200345Z
UID:17211-1747908000-1747913400@www.jfcspgh.org
SUMMARY:Allegheny Health Network Talent Attraction Program Employer Information Session
DESCRIPTION:A JFCS Career Services Event: \nJoin JFCS Career Services as we virtually host recruiters from Allegheny Health Network for an exciting Q&A session focusing primarily on the Talent Attraction Program (TAP) and part-time entry-level positions. Gain access to TAP information for allied healthcare careers.\n\nVisit the AHN website to learn more and apply: https://careers.highmarkhealth.org/jobs.\n\n\nThis event is open to the public. \nPlease contact Employer Relations Specialist Shawnte’ Knox with any questions – sknox@jfcspgh.org. \nTo cancel a registration\, please contact Gretchen Young at gyoung@jfcspgh.org\, 24 hours in advance. \nYOU WILL BE EMAILED A ZOOM LINK UPON REGISTRATION – PLEASE REMEMBER TO SAVE IT IN YOUR CALENDAR.
URL:https://www.jfcspgh.org/event/allegheny-health-network-talent-attraction-program-employer-information-session/
LOCATION:Virtual Conferencing
CATEGORIES:JFCS Career Services
ORGANIZER;CN="JFCS Career Services":MAILTO:careerservices@jfcspgh.org
END:VEVENT
END:VCALENDAR