BEGIN:VCALENDAR
VERSION:2.0
PRODID:-//Jewish Family and Community Services of Pittsburgh - ECPv6.7.1//NONSGML v1.0//EN
CALSCALE:GREGORIAN
METHOD:PUBLISH
X-ORIGINAL-URL:https://www.jfcspgh.org
X-WR-CALDESC:Events for Jewish Family and Community Services of Pittsburgh
REFRESH-INTERVAL;VALUE=DURATION:PT1H
X-Robots-Tag:noindex
X-PUBLISHED-TTL:PT1H
BEGIN:VTIMEZONE
TZID:America/New_York
BEGIN:DAYLIGHT
TZOFFSETFROM:-0500
TZOFFSETTO:-0400
TZNAME:EDT
DTSTART:20260308T070000
END:DAYLIGHT
BEGIN:STANDARD
TZOFFSETFROM:-0400
TZOFFSETTO:-0500
TZNAME:EST
DTSTART:20261101T060000
END:STANDARD
END:VTIMEZONE
BEGIN:VEVENT
DTSTART;TZID=America/New_York:20260316T130000
DTEND;TZID=America/New_York:20260316T143000
DTSTAMP:20260422T085726
CREATED:20260219T231022Z
LAST-MODIFIED:20260219T231022Z
UID:17847-1773666000-1773671400@www.jfcspgh.org
SUMMARY:Reclaiming Your Motivation
DESCRIPTION:A JFCS Career Services Event: \nUnderstand why motivation is easily discussed but sometimes difficult to obtain. Learn ways to tap into intrinsic motivational tools along with developing new ones. Also begin to remove the proverbial cement blocks that slow your forward momentum. \nPresented by Lisa Lenhart – llenhart@jfcspgh.org. \nRegistration closes at 5:00 PM the BUSINESS DAY PRIOR to this workshop. Registrations after the deadline will not be accepted. \nPlease email us at at Career Services\, if you need to cancel your registration. \nYOU WILL BE EMAILED A ZOOM LINK UPON REGISTRATION – PLEASE REMEMBER TO SAVE IT IN YOUR CALENDAR.
URL:https://www.jfcspgh.org/event/3-2-1-go-2-2-2-2-2-2-2-2-2-2-2-2-2-2-2-2-2-2-2-2-2-2-2-2-2-2/
LOCATION:Virtual Conferencing
CATEGORIES:JFCS Career Services
ORGANIZER;CN="JFCS Career Services":MAILTO:careerservices@jfcspgh.org
END:VEVENT
BEGIN:VEVENT
DTSTART;TZID=America/New_York:20260318T100000
DTEND;TZID=America/New_York:20260318T113000
DTSTAMP:20260422T085726
CREATED:20260223T164713Z
LAST-MODIFIED:20260223T164713Z
UID:17851-1773828000-1773833400@www.jfcspgh.org
SUMMARY:Resume Basics
DESCRIPTION:A JFCS Career Services Event: \nAre you new to resume writing or looking to improve the one you already have? This beginner-friendly workshop is designed for job seekers who are building or refining their resume from the ground up. Join us to learn how to craft a professional resume that gets noticed by employers. Gain insider tips on formatting\, keywords\, and how to highlight your work experience – even if you’re just starting out. \nPresented by Bishnu Timsina – btimsina@jfcspgh.org. \nRegistration closes at 5:00 PM the BUSINESS DAY PRIOR to this workshop. Registrations after the deadline will not be accepted.\n\nPlease email us at Career Services\, if you need to cancel your registration. \nYOU WILL BE EMAILED A ZOOM LINK UPON REGISTRATION – PLEASE REMEMBER TO SAVE IT IN YOUR CALENDAR.
URL:https://www.jfcspgh.org/event/current-trends-in-resume-writing-7-2-2-2-2-2-2-2-2-2-2-2-2-2-2-2-2-2-2-2-2-2-2-2-2-2-2-2-2-2-2-2-2-2-2-2-2-2-2-2-2-2-2-2-2-2-2-2-2-2-2-2-2-2-2-2-2-2-2-2-2-2-2-2/
LOCATION:Virtual Conferencing
CATEGORIES:JFCS Career Services
ORGANIZER;CN="JFCS Career Services":MAILTO:careerservices@jfcspgh.org
END:VEVENT
BEGIN:VEVENT
DTSTART;TZID=America/New_York:20260318T150000
DTEND;TZID=America/New_York:20260318T170000
DTSTAMP:20260422T085726
CREATED:20260223T165259Z
LAST-MODIFIED:20260223T165517Z
UID:17852-1773846000-1773853200@www.jfcspgh.org
SUMMARY:Cover Letter Writing Trends
DESCRIPTION:A JFCS Career Services Event: \nWell written Cover Letters serve as a compelling and strategic component in getting hired. Do you write cover letters that help you to stand out from your competition? Trends in cover letter writing continue to evolve. Join us to gain new insight into how cover letters\, e-notes\, and other letters\, provide a competitive edge. \nPresented by Pam Harris – pharris@jfcspgh.org \nRegistration closes at 5:00 PM the BUSINESS DAY PRIOR to this workshop. Registrations after the deadline will not be accepted. \nPlease email us at Career Services\, if you need to cancel your registration. \nYOU WILL BE EMAILED A ZOOM LINK UPON REGISTRATION – PLEASE REMEMBER TO SAVE IT IN YOUR CALENDAR.
URL:https://www.jfcspgh.org/event/current-trends-in-cover-letter-writing-5-2-2-2-2-2-2-2-2-2-2-2-2-2-2-2-2-2-2-2-2-2-2-2-2-2-2-2-2-2-2-2-2-2-2-2-2-2-2-2-2-2-2-2-2-2-2-2-2-2-2-2-2-2-2-2-2-2-2/
LOCATION:Virtual Conferencing
CATEGORIES:JFCS Career Services
ORGANIZER;CN="JFCS Career Services":MAILTO:careerservices@jfcspgh.org
END:VEVENT
BEGIN:VEVENT
DTSTART;TZID=America/New_York:20260319T100000
DTEND;TZID=America/New_York:20260319T113000
DTSTAMP:20260422T085726
CREATED:20260219T224103Z
LAST-MODIFIED:20260219T224103Z
UID:17841-1773914400-1773919800@www.jfcspgh.org
SUMMARY:Birgo Realty Employer Information Session
DESCRIPTION:A JFCS Career Services Event: \nJoin JFCS Career Services as we virtually host recruiters for an information and Q & A session. Individuals who participate will gain direct access to details about multiple employment opportunities\, interview and onboarding process\, benefits\, and more! \nVisit the employer’s website to learn more and apply: https://job-boards.greenhouse.io/birgo. \nThis event is open to the public. \nContact Employer Relations Specialist Shawnte’ Knox with any questions – sknox@jfcspgh.org. \nPlease email us at Career Services\, if you need to cancel your registration. \nYOU WILL BE EMAILED A ZOOM LINK UPON REGISTRATION – PLEASE REMEMBER TO SAVE IT IN YOUR CALENDAR.
URL:https://www.jfcspgh.org/event/birgo-realty-employer-information-session/
LOCATION:Virtual Conferencing
CATEGORIES:JFCS Career Services
ORGANIZER;CN="JFCS Career Services":MAILTO:careerservices@jfcspgh.org
END:VEVENT
BEGIN:VEVENT
DTSTART;TZID=America/New_York:20260319T153000
DTEND;TZID=America/New_York:20260319T170000
DTSTAMP:20260422T085726
CREATED:20260223T165907Z
LAST-MODIFIED:20260223T165907Z
UID:17854-1773934200-1773939600@www.jfcspgh.org
SUMMARY:Maximizing LinkedIn: Profile\, Job Search & Networking Essentials
DESCRIPTION:A JFCS Career Services Event: \nUnlock the full potential of LinkedIn in this hands-on workshop designed for all skill levels. Learn how to build a standout profile\, navigate job search tools\, and network with purpose. Whether you’re just starting out or refining your strategy\, you’ll leave with actionable tips to boost your visibility and connect authentically. \nThis workshop is best viewed on a laptop or desktop computer. \nPresented by Jeanne Williams – jwilliams@jfcspgh.org. \nRegistration closes at 5:00 PM the BUSINESS DAY PRIOR to this workshop. Registrations after the deadline will not be accepted. \nPlease email us at Career Services\, if you need to cancel your registration.\n\nYOU WILL BE EMAILED A ZOOM LINK UPON REGISTRATION – PLEASE REMEMBER TO SAVE IT IN YOUR CALENDAR.
URL:https://www.jfcspgh.org/event/linkedin-searching-for-jobs-6-2-2-2-2-2-2-2-2-2-2-2-2-2-2-2-2-2-2-2-2-2-2-3-2-2-2-2-2-2-2-2-2-2-2-2-2-2-2-2-2-2-2-2-2-2-2-2-2-2-2-2-2-2-2-2-3-2-2-2-2-2-2-2-2/
LOCATION:Virtual Conferencing
CATEGORIES:JFCS Career Services
ATTACH;FMTTYPE=image/jpeg:https://jfcspittsburgh.wpenginepowered.com/wp-content/uploads/2019/07/71146.jpg
ORGANIZER;CN="JFCS Career Services":MAILTO:careerservices@jfcspgh.org
END:VEVENT
END:VCALENDAR