BEGIN:VCALENDAR
VERSION:2.0
PRODID:-//Jewish Family and Community Services of Pittsburgh - ECPv6.7.1//NONSGML v1.0//EN
CALSCALE:GREGORIAN
METHOD:PUBLISH
X-WR-CALNAME:Jewish Family and Community Services of Pittsburgh
X-ORIGINAL-URL:https://www.jfcspgh.org
X-WR-CALDESC:Events for Jewish Family and Community Services of Pittsburgh
REFRESH-INTERVAL;VALUE=DURATION:PT1H
X-Robots-Tag:noindex
X-PUBLISHED-TTL:PT1H
BEGIN:VTIMEZONE
TZID:America/New_York
BEGIN:DAYLIGHT
TZOFFSETFROM:-0500
TZOFFSETTO:-0400
TZNAME:EDT
DTSTART:20260308T070000
END:DAYLIGHT
BEGIN:STANDARD
TZOFFSETFROM:-0400
TZOFFSETTO:-0500
TZNAME:EST
DTSTART:20261101T060000
END:STANDARD
END:VTIMEZONE
BEGIN:VEVENT
DTSTART;TZID=America/New_York:20260312T100000
DTEND;TZID=America/New_York:20260312T113000
DTSTAMP:20260422T013746
CREATED:20260219T222600Z
LAST-MODIFIED:20260219T222600Z
UID:17840-1773309600-1773315000@www.jfcspgh.org
SUMMARY:University of Pittsburgh Employer Information Session
DESCRIPTION:A JFCS Career Services Event: \nJoin JFCS Career Services as we virtually host recruiters for an information and Q & A session. Individuals who participate will gain direct access to details about multiple employment opportunities\, interview and onboarding process\, benefits\, and more! \nVisit the employer’s website to learn more and apply: https://www.join.pitt.edu/ \nThis event is open to the public. \nContact Employer Relations Specialist Shawnte’ Knox with any questions – sknox@jfcspgh.org. \nPlease email us at Career Services\, if you need to cancel your registration. \nYOU WILL BE EMAILED A ZOOM LINK UPON REGISTRATION – PLEASE REMEMBER TO SAVE IT IN YOUR CALENDAR.
URL:https://www.jfcspgh.org/event/university-of-pittsburgh-employer-information-session/
LOCATION:Virtual Conferencing
CATEGORIES:JFCS Career Services
ORGANIZER;CN="JFCS Career Services":MAILTO:careerservices@jfcspgh.org
END:VEVENT
BEGIN:VEVENT
DTSTART;TZID=America/New_York:20260319T100000
DTEND;TZID=America/New_York:20260319T113000
DTSTAMP:20260422T013746
CREATED:20260219T224103Z
LAST-MODIFIED:20260219T224103Z
UID:17841-1773914400-1773919800@www.jfcspgh.org
SUMMARY:Birgo Realty Employer Information Session
DESCRIPTION:A JFCS Career Services Event: \nJoin JFCS Career Services as we virtually host recruiters for an information and Q & A session. Individuals who participate will gain direct access to details about multiple employment opportunities\, interview and onboarding process\, benefits\, and more! \nVisit the employer’s website to learn more and apply: https://job-boards.greenhouse.io/birgo. \nThis event is open to the public. \nContact Employer Relations Specialist Shawnte’ Knox with any questions – sknox@jfcspgh.org. \nPlease email us at Career Services\, if you need to cancel your registration. \nYOU WILL BE EMAILED A ZOOM LINK UPON REGISTRATION – PLEASE REMEMBER TO SAVE IT IN YOUR CALENDAR.
URL:https://www.jfcspgh.org/event/birgo-realty-employer-information-session/
LOCATION:Virtual Conferencing
CATEGORIES:JFCS Career Services
ORGANIZER;CN="JFCS Career Services":MAILTO:careerservices@jfcspgh.org
END:VEVENT
END:VCALENDAR