BEGIN:VCALENDAR
VERSION:2.0
PRODID:-//Jewish Family and Community Services of Pittsburgh - ECPv6.7.1//NONSGML v1.0//EN
CALSCALE:GREGORIAN
METHOD:PUBLISH
X-WR-CALNAME:Jewish Family and Community Services of Pittsburgh
X-ORIGINAL-URL:https://www.jfcspgh.org
X-WR-CALDESC:Events for Jewish Family and Community Services of Pittsburgh
REFRESH-INTERVAL;VALUE=DURATION:PT1H
X-Robots-Tag:noindex
X-PUBLISHED-TTL:PT1H
BEGIN:VTIMEZONE
TZID:America/New_York
BEGIN:DAYLIGHT
TZOFFSETFROM:-0500
TZOFFSETTO:-0400
TZNAME:EDT
DTSTART:20260308T070000
END:DAYLIGHT
BEGIN:STANDARD
TZOFFSETFROM:-0400
TZOFFSETTO:-0500
TZNAME:EST
DTSTART:20261101T060000
END:STANDARD
END:VTIMEZONE
BEGIN:VEVENT
DTSTART;TZID=America/New_York:20260414T140000
DTEND;TZID=America/New_York:20260414T153000
DTSTAMP:20260425T070713
CREATED:20260311T165031Z
LAST-MODIFIED:20260311T165031Z
UID:17888-1776175200-1776180600@www.jfcspgh.org
SUMMARY:Microsoft Excel and Word
DESCRIPTION:A JFCS Career Services Event \nThis 90‑minute workshop provides an introduction to Microsoft Excel and Word. Participants will learn how to open and use both applications\, explore key features\, and practice sharing content within these programs.\n\nRecommended: Attend using a laptop or desktop computer for the best learning experience.\n\nPresented by: University of Pittsburgh iServe Project Student Volunteers\n\nQuestions? Contact Shawnte Knox at sknox@jfcspgh.org.\n\nRegistration Deadline:\nRegistration closes at 5:00 PM the business day prior to the workshop. Registrations received after the deadline cannot be accepted.\n\nCancellation Policy:\nTo cancel your registration\, please contact us at Career Services at least 24 hours in advance.\n\nImportant:\nA Zoom link will be emailed to you upon registration. Please remember to save it to your calendar.
URL:https://www.jfcspgh.org/event/basic-microsoft-office-skills-3-2/
LOCATION:Virtual Conferencing
CATEGORIES:JFCS Career Services
ORGANIZER;CN="JFCS Career Services":MAILTO:careerservices@jfcspgh.org
END:VEVENT
BEGIN:VEVENT
DTSTART;TZID=America/New_York:20260414T170000
DTEND;TZID=America/New_York:20260414T183000
DTSTAMP:20260425T070713
CREATED:20260324T195037Z
LAST-MODIFIED:20260324T195037Z
UID:17907-1776186000-1776191400@www.jfcspgh.org
SUMMARY:Maximizing LinkedIn: Profile\, Job Search & Networking Essentials
DESCRIPTION:A JFCS Career Services Event: \nUnlock the full potential of LinkedIn in this hands-on workshop designed for all skill levels. Learn how to build a standout profile\, navigate job search tools\, and network with purpose. Whether you’re just starting out or refining your strategy\, you’ll leave with actionable tips to boost your visibility and connect authentically. \nThis workshop is best viewed on a laptop or desktop computer. \nPresented by Lisa Lenhart – llenhart@jfcspgh.org. \nRegistration closes at 5:00 PM the BUSINESS DAY PRIOR to this workshop. Registrations after the deadline will not be accepted. \nPlease email us at Career Services\, if you need to cancel your registration.\n\nYOU WILL BE EMAILED A ZOOM LINK UPON REGISTRATION – PLEASE REMEMBER TO SAVE IT IN YOUR CALENDAR.
URL:https://www.jfcspgh.org/event/linkedin-searching-for-jobs-6-2-2-2-2-2-2-2-2-2-2-2-2-2-2-2-2-2-2-2-2-2-2-3-2-2-2-2-2-2-2-2-2-2-2-2-2-2-2-2-2-2-2-2-2-2-2-2-2-2-2-2-2-2-2-2-3-2-2-2-2-2-2-2-2-2/
LOCATION:Virtual Conferencing
CATEGORIES:JFCS Career Services
ATTACH;FMTTYPE=image/jpeg:https://jfcspittsburgh.wpenginepowered.com/wp-content/uploads/2019/07/71146.jpg
ORGANIZER;CN="JFCS Career Services":MAILTO:careerservices@jfcspgh.org
END:VEVENT
BEGIN:VEVENT
DTSTART;TZID=America/New_York:20260415T100000
DTEND;TZID=America/New_York:20260415T120000
DTSTAMP:20260425T070713
CREATED:20260325T020816Z
LAST-MODIFIED:20260325T020816Z
UID:17908-1776247200-1776254400@www.jfcspgh.org
SUMMARY:The Art of Networking
DESCRIPTION:A JFCS Career Services Event: \nLearn the essential practice of networking; how to find and approach contacts and techniques for presenting yourself effectively. \nPresented by George Ponticello – gponticello@jfcspgh.org. \nRegistration closes at 5:00 PM the BUSINESS DAY PRIOR to this workshop. Registrations after the deadline will not be accepted.\n\nPlease email us at Career Services\, if you need to cancel your registration. \nYOU WILL BE EMAILED A ZOOM LINK UPON REGISTRATION – PLEASE REMEMBER TO SAVE IT IN YOUR CALENDAR.
URL:https://www.jfcspgh.org/event/the-art-of-networking-21-2-2-2-2-2-2-2-2-2-2-2-2-2-2-2-2-2-2-2-2-2-2-2-2-2-2-2-2-2-2-2-2-2-2-2-2-2-2-2-2-2-2-2-2-2-2-2-2-2-2-2-2-2-2/
LOCATION:Virtual Conferencing
CATEGORIES:JFCS Career Services
ORGANIZER;CN="JFCS Career Services":MAILTO:careerservices@jfcspgh.org
END:VEVENT
BEGIN:VEVENT
DTSTART;TZID=America/New_York:20260415T130000
DTEND;TZID=America/New_York:20260415T143000
DTSTAMP:20260425T070713
CREATED:20260325T021236Z
LAST-MODIFIED:20260325T021236Z
UID:17909-1776258000-1776263400@www.jfcspgh.org
SUMMARY:Phone & Video Interviewing
DESCRIPTION:A JFCS Career Services Event: \nJoin us as we explore the ever-changing methods used by human resource departments and hiring managers in the quest for new hires. As the rise of phone and virtual interviews continue to grow\, it is crucial to adapt and proactively increase your skill set. Enhance your success as we discuss the nuances of phone and video interviewing. \nPresented by Pam Day – pday@jfcspgh.org. \nRegistration closes at 5:00 PM the BUSINESS DAY PRIOR to this workshop. Registrations after the deadline will not be accepted.\n\nPlease email us at Career Services\, if you need to cancel your registration. \nYOU WILL BE EMAILED A ZOOM LINK UPON REGISTRATION – PLEASE REMEMBER TO SAVE IT IN YOUR CALENDAR.
URL:https://www.jfcspgh.org/event/phone-video-interviewing-6-2-2-2-2-2-2-2-2-2-2-2-2-2-2-2-2-3-2-2-2-2-2-2-2-2-2-2-2-2-2-2-2-2-2-2-2-2-2-2-2-2-2-2-2-2-2-2-2-2-2-2-2-2-2-2-2-2-2-2-2-2-2-2/
LOCATION:Virtual Conferencing
CATEGORIES:JFCS Career Services
ATTACH;FMTTYPE=image/jpeg:https://jfcspittsburgh.wpenginepowered.com/wp-content/uploads/2020/01/Phone-Screening.jpeg
ORGANIZER;CN="JFCS Career Services":MAILTO:careerservices@jfcspgh.org
END:VEVENT
BEGIN:VEVENT
DTSTART;TZID=America/New_York:20260415T173000
DTEND;TZID=America/New_York:20260415T190000
DTSTAMP:20260425T070713
CREATED:20260325T023319Z
LAST-MODIFIED:20260325T023319Z
UID:17910-1776274200-1776279600@www.jfcspgh.org
SUMMARY:Reclaiming Your Motivation
DESCRIPTION:A JFCS Career Services Event: \nUnderstand why motivation is easily discussed but sometimes difficult to obtain. Learn ways to tap into intrinsic motivational tools along with developing new ones. Also begin to remove the proverbial cement blocks that slow your forward momentum. \nPresented by Lisa Lenhart – llenhart@jfcspgh.org. \nRegistration closes at 5:00 PM the BUSINESS DAY PRIOR to this workshop. Registrations after the deadline will not be accepted. \nPlease email us at at Career Services\, if you need to cancel your registration. \nYOU WILL BE EMAILED A ZOOM LINK UPON REGISTRATION – PLEASE REMEMBER TO SAVE IT IN YOUR CALENDAR.
URL:https://www.jfcspgh.org/event/3-2-1-go-2-2-2-2-2-2-2-2-2-2-2-2-2-2-2-2-2-2-2-2-2-2-2-2-2-2-2/
LOCATION:Virtual Conferencing
CATEGORIES:JFCS Career Services
ORGANIZER;CN="JFCS Career Services":MAILTO:careerservices@jfcspgh.org
END:VEVENT
BEGIN:VEVENT
DTSTART;TZID=America/New_York:20260416T100000
DTEND;TZID=America/New_York:20260416T113000
DTSTAMP:20260425T070713
CREATED:20260323T203525Z
LAST-MODIFIED:20260323T203656Z
UID:17902-1776333600-1776339000@www.jfcspgh.org
SUMMARY:UPMC Mercy Employer Information Session
DESCRIPTION:A JFCS Career Services Event:\n\nJoin JFCS Career Services as we virtually host recruiters for an information and Q & A session. Individuals who participate will gain direct access to details about multiple employment opportunities\, interview and onboarding process\, benefits\, and more!\n\nVisit the employer’s website to learn more and apply: https://careers.upmc.com/.\n\nThis event is open to the public.\n\nContact Employer Relations Specialist Shawnte’ Knox with any questions – sknox@jfcspgh.org.\n\nPlease email us at Career Services\, if you need to cancel your registration.\n\nYOU WILL BE EMAILED A ZOOM LINK UPON REGISTRATION – PLEASE REMEMBER TO SAVE IT IN YOUR CALENDAR.
URL:https://www.jfcspgh.org/event/upmc-mercy-employer-information-session/
LOCATION:Virtual Conferencing
CATEGORIES:JFCS Career Services
ORGANIZER;CN="JFCS Career Services":MAILTO:careerservices@jfcspgh.org
END:VEVENT
BEGIN:VEVENT
DTSTART;TZID=America/New_York:20260416T143000
DTEND;TZID=America/New_York:20260416T160000
DTSTAMP:20260425T070713
CREATED:20260325T023731Z
LAST-MODIFIED:20260325T023731Z
UID:17911-1776349800-1776355200@www.jfcspgh.org
SUMMARY:Navigating Workspaces: Remote\, Hybrid\, and In-Person
DESCRIPTION:A JFCS Career Services Event: \nGain the confidence to adapt and succeed as workplace dynamics continue to evolve. We will review strategies to thrive in any work setting – whether you’re working remotely\, in a hybrid model\, or on-site. \nPresented by Margaret Lizzi – mlizzi@jfcspgh.org. \nRegistration closes at 5:00 PM the BUSINESS DAY PRIOR to this workshop. Registrations after the deadline will not be accepted. \nPlease email us at Career Services\, if you need to cancel your registration. \nYOU WILL BE EMAILED A ZOOM LINK UPON REGISTRATION – PLEASE REMEMBER TO SAVE IT IN YOUR CALENDAR.
URL:https://www.jfcspgh.org/event/remote-work-job-search-2-2-2-2-2-2-2-2-2-2-2-2-2-2-2-2-2-2-2-2-2-2-2-2-2-2-2-2-2-2-2-2-2-2-2-2/
LOCATION:Virtual Conferencing
CATEGORIES:JFCS Career Services
ORGANIZER;CN="JFCS Career Services":MAILTO:careerservices@jfcspgh.org
END:VEVENT
END:VCALENDAR