BEGIN:VCALENDAR
VERSION:2.0
PRODID:-//Jewish Family and Community Services of Pittsburgh - ECPv6.7.1//NONSGML v1.0//EN
CALSCALE:GREGORIAN
METHOD:PUBLISH
X-ORIGINAL-URL:https://www.jfcspgh.org
X-WR-CALDESC:Events for Jewish Family and Community Services of Pittsburgh
REFRESH-INTERVAL;VALUE=DURATION:PT1H
X-Robots-Tag:noindex
X-PUBLISHED-TTL:PT1H
BEGIN:VTIMEZONE
TZID:America/New_York
BEGIN:DAYLIGHT
TZOFFSETFROM:-0500
TZOFFSETTO:-0400
TZNAME:EDT
DTSTART:20260308T070000
END:DAYLIGHT
BEGIN:STANDARD
TZOFFSETFROM:-0400
TZOFFSETTO:-0500
TZNAME:EST
DTSTART:20261101T060000
END:STANDARD
END:VTIMEZONE
BEGIN:VEVENT
DTSTART;TZID=America/New_York:20260421T100000
DTEND;TZID=America/New_York:20260421T113000
DTSTAMP:20260419T114423
CREATED:20260325T133853Z
LAST-MODIFIED:20260325T133853Z
UID:17912-1776765600-1776771000@www.jfcspgh.org
SUMMARY:Resume Basics
DESCRIPTION:A JFCS Career Services Event: \nAre you new to resume writing or looking to improve the one you already have? This beginner-friendly workshop is designed for job seekers who are building or refining their resume from the ground up. Join us to learn how to craft a professional resume that gets noticed by employers. Gain insider tips on formatting\, keywords\, and how to highlight your work experience – even if you’re just starting out. \nPresented by Bishnu Timsina – btimsina@jfcspgh.org. \nRegistration closes at 5:00 PM the BUSINESS DAY PRIOR to this workshop. Registrations after the deadline will not be accepted.\n\nPlease email us at Career Services\, if you need to cancel your registration. \nYOU WILL BE EMAILED A ZOOM LINK UPON REGISTRATION – PLEASE REMEMBER TO SAVE IT IN YOUR CALENDAR.
URL:https://www.jfcspgh.org/event/current-trends-in-resume-writing-7-2-2-2-2-2-2-2-2-2-2-2-2-2-2-2-2-2-2-2-2-2-2-2-2-2-2-2-2-2-2-2-2-2-2-2-2-2-2-2-2-2-2-2-2-2-2-2-2-2-2-2-2-2-2-2-2-2-2-2-2-2-2-2-2/
LOCATION:Virtual Conferencing
CATEGORIES:JFCS Career Services
ORGANIZER;CN="JFCS Career Services":MAILTO:careerservices@jfcspgh.org
END:VEVENT
BEGIN:VEVENT
DTSTART;TZID=America/New_York:20260421T130000
DTEND;TZID=America/New_York:20260421T143000
DTSTAMP:20260419T114423
CREATED:20260325T134125Z
LAST-MODIFIED:20260325T134125Z
UID:17913-1776776400-1776781800@www.jfcspgh.org
SUMMARY:LinkedIn: Searching for Jobs
DESCRIPTION:A JFCS Career Services Event: \nLearn how to search for jobs on LinkedIn. This presentation will demonstrate how to search for jobs\, apply for positions\, and save searches/postings using LinkedIn. \nThis workshop is best viewed on a laptop or desktop computer. \nPresented by Lisa Lenhart – llenhart@jfcspgh.org. \nRegistration closes at 5:00 PM the BUSINESS DAY PRIOR to this workshop. Registrations after the deadline will not be accepted. \nPlease email us at Career Services\, if you need to cancel your registration.\n\nYOU WILL BE EMAILED A ZOOM LINK UPON REGISTRATION – PLEASE REMEMBER TO SAVE IT IN YOUR CALENDAR.
URL:https://www.jfcspgh.org/event/linkedin-searching-for-jobs-6-2-2-2-2-2-2-2-2-2-2-2-2-2-2-2-2-2-2-2-2-2-2-3-2-2-2-2-2-2-2-2-2-2-2-2-2-2-2-2-2-2-2-2-2-2-2-2-2-2-2-2-2-2-2-2-3-2-3-2-2-2-2-2-2/
LOCATION:Virtual Conferencing
CATEGORIES:JFCS Career Services
ATTACH;FMTTYPE=image/jpeg:https://jfcspittsburgh.wpenginepowered.com/wp-content/uploads/2019/07/71146.jpg
ORGANIZER;CN="JFCS Career Services":MAILTO:careerservices@jfcspgh.org
END:VEVENT
END:VCALENDAR