BEGIN:VCALENDAR
VERSION:2.0
PRODID:-//Jewish Family and Community Services of Pittsburgh - ECPv6.7.1//NONSGML v1.0//EN
CALSCALE:GREGORIAN
METHOD:PUBLISH
X-WR-CALNAME:Jewish Family and Community Services of Pittsburgh
X-ORIGINAL-URL:https://www.jfcspgh.org
X-WR-CALDESC:Events for Jewish Family and Community Services of Pittsburgh
REFRESH-INTERVAL;VALUE=DURATION:PT1H
X-Robots-Tag:noindex
X-PUBLISHED-TTL:PT1H
BEGIN:VTIMEZONE
TZID:America/New_York
BEGIN:DAYLIGHT
TZOFFSETFROM:-0500
TZOFFSETTO:-0400
TZNAME:EDT
DTSTART:20250309T070000
END:DAYLIGHT
BEGIN:STANDARD
TZOFFSETFROM:-0400
TZOFFSETTO:-0500
TZNAME:EST
DTSTART:20251102T060000
END:STANDARD
END:VTIMEZONE
BEGIN:VEVENT
DTSTART;TZID=America/New_York:20250710T100000
DTEND;TZID=America/New_York:20250710T120000
DTSTAMP:20260421T080500
CREATED:20250623T180809Z
LAST-MODIFIED:20250623T180809Z
UID:17312-1752141600-1752148800@www.jfcspgh.org
SUMMARY:Integrated Microsoft Office Suite
DESCRIPTION:A JFCS Career Services Event: \nThis two hour workshop explores working with the MS-Office Suite of tools – review the basics of Word\, PowerPoint\, and Excel; how to open and use multiple applications at once; and share content between Word\, PowerPoint\, and Excel using text\, charts\, tables\, and graphics. \nThis workshop is best viewed on a laptop or desktop computer. \nPresented by Raymond Sneed\, WorkAble Volunteer.\nPlease contact Shawnte Knox with any questions – sknox@jfcspgh.org. \nRegistration closes at 5:00 PM the BUSINESS DAY PRIOR to this workshop. Registrations after the deadline will not be accepted. \nTo cancel a registration\, please contact Gretchen Young at gyoung@jfcspgh.org\, 24 hours in advance. \nYOU WILL BE EMAILED A ZOOM LINK UPON REGISTRATION – PLEASE REMEMBER TO SAVE IT IN YOUR CALENDAR.
URL:https://www.jfcspgh.org/event/integrated-microsoft-office-suite-8-2-2-2-2-2-2-2-2-2-2-2-2-2-2-2-2-2-2-2-2-2-2-2-2-2-2-2-2-2-2-2-2-2-2-2-2-2-2-2-2-2-2-2-2-2-2-2-2/
LOCATION:Virtual Conferencing
CATEGORIES:JFCS Career Services
ORGANIZER;CN="JFCS Career Services":MAILTO:careerservices@jfcspgh.org
END:VEVENT
END:VCALENDAR